BEGIN:VCALENDAR
VERSION:2.0
PRODID:-//Association des parents d&#039;élèves de l&#039;école Jacques-Dalphin - ECPv5.9.1//NONSGML v1.0//EN
CALSCALE:GREGORIAN
METHOD:PUBLISH
X-WR-CALNAME:Association des parents d&#039;élèves de l&#039;école Jacques-Dalphin
X-ORIGINAL-URL:https://apejd.ch
X-WR-CALDESC:évènements pour Association des parents d&#039;élèves de l&#039;école Jacques-Dalphin
BEGIN:VTIMEZONE
TZID:Europe/Zurich
BEGIN:DAYLIGHT
TZOFFSETFROM:+0100
TZOFFSETTO:+0200
TZNAME:CEST
DTSTART:20190331T010000
END:DAYLIGHT
BEGIN:STANDARD
TZOFFSETFROM:+0200
TZOFFSETTO:+0100
TZNAME:CET
DTSTART:20191027T010000
END:STANDARD
END:VTIMEZONE
BEGIN:VEVENT
DTSTART;TZID=Europe/Zurich:20191201T100000
DTEND;TZID=Europe/Zurich:20191201T130000
DTSTAMP:20260421T152250
CREATED:20190902T183530Z
LAST-MODIFIED:20190902T190105Z
UID:1806-1575194400-1575205200@apejd.ch
SUMMARY:Course de l'Escalade
DESCRIPTION:Sant«E»scalade
URL:https://apejd.ch/evenement/course-de-lescalade/
CATEGORIES:santescalade
END:VEVENT
END:VCALENDAR